BEGIN:VCALENDAR
VERSION:2.0
PRODID:-//ChamberMaster//Event Calendar 2.0//EN
METHOD:PUBLISH
X-PUBLISHED-TTL:P3D
REFRESH-INTERVAL:P3D
CALSCALE:GREGORIAN
BEGIN:VEVENT
DTSTART:20190707T000000Z
DTEND:20190707T020000Z
X-MICROSOFT-CDO-ALLDAYEVENT:FALSE
SUMMARY:Summer Concert Series at The Orchard
DESCRIPTION:Presented by St. Anthony North Health Campus. Bring your lawn chairs down to The Orchard every Saturday night and listen to Colorado's favorite bands! Free and open to the public. All Shows run on Saturday nights 6-8pm on The Orchard's Town Center Drive. July 6: Wash Park (Big Brass\, Big Sound Party Band)\; July 13: Loving the Alien (David Bowie Tribute)\; July 20: Blink 90210 (Favorite's 90's Hits)\; July 27: Thumpin' (R&B/Top 40/Dance)
X-ALT-DESC;FMTTYPE=text/html:Presented by St. Anthony North Health Campus. Bring your lawn chairs down to The Orchard every Saturday night and listen to Colorado&rsquo\;s favorite bands! Free and open to the public. All Shows run on Saturday nights 6-8pm on The Orchard&#39\;s Town Center Drive. July 6: Wash Park (Big Brass\, Big Sound Party Band)\; July 13: Loving the Alien (David Bowie Tribute)\; July 20: Blink 90210 (Favorite&rsquo\;s 90&rsquo\;s Hits)\; July 27: Thumpin&#39\; (R&amp\;B/Top 40/Dance)
LOCATION:The Orchard Town Center 14697 Delaware Street Westminster CO 80023
UID:e.2690.11059
SEQUENCE:3
DTSTAMP:20260420T010913Z
URL:https://www.westminsterchamber.biz/events/details/summer-concert-series-at-the-orchard-11059
END:VEVENT

END:VCALENDAR
