BEGIN:VCALENDAR
VERSION:2.0
PRODID:-//ChamberMaster//Event Calendar 2.0//EN
METHOD:PUBLISH
X-PUBLISHED-TTL:P3D
REFRESH-INTERVAL:P3D
CALSCALE:GREGORIAN
BEGIN:VEVENT
DTSTART:20180616T150000Z
DTEND:20180616T190000Z
X-MICROSOFT-CDO-ALLDAYEVENT:FALSE
SUMMARY:Sweat With Our Vets at Snap Fitness
DESCRIPTION:Snap Fitness is hosting our\n\n1st annual Fun Run \n\nA benefit for DTOM 22/0 Foundation #Stopthe22aday\n\n \n\nJune 16th\, 2018 9am\n\nSnap Fitness\, Westminster\n\n9250 Sheridan Blvd Suite 100\, Westminster CO\n\nRegister and Donate at dtom220.org\n\n \n\nCome support our Veterans\n\n \n\nSuggested Donations:  $15 for Snap Fitness\, Westminster Members\n\n$20 for Non-Members\n\n100% of registration fees and donations go directly to DTOM 22/0
X-ALT-DESC;FMTTYPE=text/html:<strong><span style="font-family:century gothic\,sans-serif"><span style="font-size:18.0pt">Snap Fitness is hosting our</span></span></strong><br />\n<strong><span style="font-family:century gothic\,sans-serif"><span style="font-size:18.0pt">1<sup>st</sup> annual Fun Run </span></span></strong><br />\n<strong><span style="font-family:century gothic\,sans-serif"><span style="font-size:18.0pt">A benefit for DTOM 22/0 Foundation </span></span></strong><strong><span style="color:#C00000"><span style="font-family:century gothic\,sans-serif"><span style="font-size:20.0pt">#Stopthe22aday</span></span></span></strong><br />\n&nbsp\;<br />\n<strong><span style="color:#3B3838"><span style="font-family:century gothic\,sans-serif"><span style="font-size:22.0pt">June 16<sup>th</sup>\, 2018 9am</span></span></span></strong><br />\n<strong><span style="color:#3B3838"><span style="font-family:century gothic\,sans-serif"><span style="font-size:22.0pt">Snap Fitness\, Westminster</span></span></span></strong><br />\n<strong><span style="color:#3B3838"><span style="font-family:century gothic\,sans-serif"><span style="font-size:18.0pt">9250 Sheridan Blvd Suite 100\, Westminster CO</span></span></span></strong><br />\n<strong><span style="color:#C00000"><span style="font-family:century gothic\,sans-serif"><span style="font-size:18.0pt">Register and Donate at </span></span></span></strong><strong><u><span style="font-family:century gothic\,sans-serif"><span style="font-size:18.0pt">dtom220.org</span></span></u></strong><br />\n&nbsp\;<br />\n<strong><span style="color:#4D4D4D"><span style="font-family:century gothic\,sans-serif"><span style="font-size:22.0pt">Come support our Veterans</span></span></span></strong><br />\n&nbsp\;<br />\n<strong><span style="color:#C00000"><span style="font-family:century gothic\,sans-serif"><span style="font-size:18.0pt">Suggested Donations:&nbsp\; $15 for Snap Fitness\, Westminster Members</span></span></span></strong><br />\n<strong><span style="color:#C00000"><span style="font-family:century gothic\,sans-serif"><span style="font-size:18.0pt">$20 for Non-Members</span></span></span></strong><br />\n<strong><span style="color:#C00000"><span style="font-family:century gothic\,sans-serif"><span style="font-size:18.0pt">100% of registration fees and donations go directly to DTOM 22/0</span></span></span></strong>
LOCATION:Snap Fitness Westmisnter 9250 Sheridan Blvd Suite 100 Westminster\, CO 80031
UID:e.2690.6793
SEQUENCE:3
DTSTAMP:20260420T220512Z
URL:https://www.westminsterchamber.biz/events/details/sweat-with-our-vets-at-snap-fitness-6793
END:VEVENT

END:VCALENDAR
