BEGIN:VCALENDAR
VERSION:2.0
PRODID:-//ChamberMaster//Event Calendar 2.0//EN
METHOD:PUBLISH
X-PUBLISHED-TTL:P3D
REFRESH-INTERVAL:P3D
CALSCALE:GREGORIAN
BEGIN:VEVENT
DTSTART:20171123T180000Z
DTEND:20171123T230000Z
X-MICROSOFT-CDO-ALLDAYEVENT:FALSE
SUMMARY:Thanksgiving with the DoubleTree
DESCRIPTION:Let our family be your family this Thanksgiving! We're back with our Thanksgiving dinner and can't wait to serve you! Let us do all the cleaning and hard work\, while you sit back\, relax\, and enjoy the time with your loved ones! Is your family not in town\, or are you new to the area? Let us be there with open arms to greet you and help you enjoy a fantastic meal! ___At the DoubleTree by Hilton Denver-Westminster___ ADULTS $24.95_____SENIORS/MILITARY $21.95_____ CHILDREN $15.95 {Children 3 and under eat free} Choice of One Salad Choice of Caesar or Waldorf Salad Choice of One Entr e Roasted Turkey\, Glazed Ham or Roast Beef Accompaniments Mashed Potatoes served with Giblet Gravy Candied Yams Green Bean Casserole Sage Stuffing Cranberry Sauce Warm Dinner Rolls with Whipped Butter Choice of One Dessert Pumpkin Pie\, Pecan Pie or Chocolate Cake {Served with Non-Alcoholic Beverage} {Seating Times Between 11:00AM - 4:00PM} ___CALL 303-262-5080 FOR RESERVATIONS___
X-ALT-DESC;FMTTYPE=text/html:Let our family be your family this Thanksgiving! We&#39\;re back with our Thanksgiving dinner and can&#39\;t wait to serve you! Let us do all the cleaning and hard work\, while you sit back\, relax\, and enjoy the time with your loved ones! Is your family not in town\, or are you new to the area? Let us be there with open arms to greet you and help you enjoy a fantastic meal! ___At the DoubleTree by Hilton Denver-Westminster___ ADULTS $24.95_____SENIORS/MILITARY $21.95_____ CHILDREN $15.95 {Children 3 and under eat free} Choice of One Salad Choice of Caesar or Waldorf Salad Choice of One Entr&eacute\;e Roasted Turkey\, Glazed Ham or Roast Beef Accompaniments Mashed Potatoes served with Giblet Gravy Candied Yams Green Bean Casserole Sage Stuffing Cranberry Sauce Warm Dinner Rolls with Whipped Butter Choice of One Dessert Pumpkin Pie\, Pecan Pie or Chocolate Cake {Served with Non-Alcoholic Beverage} {Seating Times Between 11:00AM - 4:00PM} ___CALL 303-262-5080 FOR RESERVATIONS___
LOCATION:DoubleTree by Hilton Denver-Westminster 8773 Yates Drive Westminster\, CO 80031
UID:e.2690.5600
SEQUENCE:3
DTSTAMP:20260421T084943Z
URL:https://www.westminsterchamber.biz/events/details/thanksgiving-with-the-doubletree-5600
END:VEVENT

END:VCALENDAR
