BEGIN:VCALENDAR
VERSION:2.0
PRODID:-//ChamberMaster//Event Calendar 2.0//EN
METHOD:PUBLISH
X-PUBLISHED-TTL:P3D
REFRESH-INTERVAL:P3D
CALSCALE:GREGORIAN
BEGIN:VEVENT
DTSTART:20170820T143000Z
DTEND:20170820T163000Z
X-MICROSOFT-CDO-ALLDAYEVENT:FALSE
SUMMARY:The 2nd Annual - Eye of Logan 5K and Silent Auction
DESCRIPTION:Join us in Westminster\, CO on Sunday August 20\, 2017 as we support the fundraising efforts toward finding better treatments and a cure for RDH12 - a retinal degenerative disease.\n\nThis is a family friendly event and all encouraged to attend!  Walkers\, joggers\, dogs and serious runners: all are welcome!\n\nIf you don't think you can do the 3.1 miles just come play\, listen to music and browse the silent auction items.  The bidding opens at 8:30 am and will end at 10:30am and winners will be announced. \n\nIf you can't make it the day of the event\, please consider clicking on the donate button and donating to this cause that is near and dear to our hearts.
X-ALT-DESC;FMTTYPE=text/html:<p style="color: rgb(16\, 99\, 134)\; font-size: 14px\; padding: 0px\; line-height: 23px\; margin: 0px 0px 10px\; font-family: &quot\;Open Sans&quot\;\, sans-serif\;">Join us in Westminster\, CO on Sunday August 20\, 2017 as we support the fundraising efforts toward finding better treatments and a cure for RDH12 - a retinal degenerative disease.</p>\n\n<p style="color: rgb(16\, 99\, 134)\; font-size: 14px\; padding: 0px\; line-height: 23px\; margin: 0px 0px 10px\; font-family: &quot\;Open Sans&quot\;\, sans-serif\;">This is a family friendly event and all encouraged to attend!&nbsp\; Walkers\, joggers\, dogs and serious runners: all are welcome!</p>\n\n<p style="color: rgb(16\, 99\, 134)\; font-size: 14px\; padding: 0px\; line-height: 23px\; margin: 0px 0px 10px\; font-family: &quot\;Open Sans&quot\;\, sans-serif\;">If you don&#39\;t think you can do the 3.1 miles just come play\, listen to music and browse the silent auction items. &nbsp\;The bidding opens at 8:30 am and will end at 10:30am and winners will be announced.&nbsp\;</p>\n\n<p style="color: rgb(16\, 99\, 134)\; font-size: 14px\; padding: 0px\; line-height: 23px\; margin: 0px 0px 10px\; font-family: &quot\;Open Sans&quot\;\, sans-serif\;">If you can&#39\;t make it the day of the event\, please consider clicking on the donate button and donating to this cause that is near and dear to our hearts.</p>\n
LOCATION:Promenade Terrace (The outdoor amphitheater located off Promenade Dr N behind the Westin Westminster) 10600 Westminster Boulevard Westminster\, CO US 80020
UID:e.2690.5442
SEQUENCE:3
DTSTAMP:20260421T135003Z
URL:https://www.westminsterchamber.biz/events/details/the-2nd-annual-eye-of-logan-5k-and-silent-auction-5442
END:VEVENT

END:VCALENDAR
