BEGIN:VCALENDAR
VERSION:2.0
PRODID:-//ChamberMaster//Event Calendar 2.0//EN
METHOD:PUBLISH
X-PUBLISHED-TTL:P3D
REFRESH-INTERVAL:P3D
CALSCALE:GREGORIAN
BEGIN:VEVENT
DTSTART:20180728T140000Z
DTEND:20180728T170000Z
X-MICROSOFT-CDO-ALLDAYEVENT:FALSE
SUMMARY:The Cooking Light & Health Fit Foodie Festival & 5K/10K
DESCRIPTION:The Fit Foodie Festival & 5K/10K celebrates the balance of a delicious\, healthy and active lifestyle as you eat your way to the finish line with bites along the course\, then celebrate at the post-run Food and Fitness Festival. The Food and Fitness Festival\, rewards you for making healthy choices with tastes from local restaurants\, beer and wine gardens\, mini-workout classes\, cooking demonstrations\, and more. Fit Foodie Festival & 5K/10K registration includes: Race registration and bib Bites along the course Finisher's medal Delicious tasting stations Goody bag with gifts from top health and wellness brands Cash reward for top finishers Included donation to Official Fit Foodie Charity No Kid Hungry
X-ALT-DESC;FMTTYPE=text/html:The Fit Foodie Festival &amp\; 5K/10K celebrates the balance of a delicious\, healthy and active lifestyle as you eat your way to the finish line with bites along the course\, then celebrate at the post-run Food and Fitness Festival. The Food and Fitness Festival\, rewards you for making healthy choices with tastes from local restaurants\, beer and wine gardens\, mini-workout classes\, cooking demonstrations\, and more. Fit Foodie Festival &amp\; 5K/10K registration includes: Race registration and bib Bites along the course Finisher&rsquo\;s medal Delicious tasting stations Goody bag with gifts from top health and wellness brands Cash reward for top finishers Included donation to Official Fit Foodie Charity No Kid Hungry
LOCATION:Westminster City Park
UID:e.2690.6647
SEQUENCE:3
DTSTAMP:20260420T183709Z
URL:https://www.westminsterchamber.biz/events/details/the-cooking-light-health-fit-foodie-festival-5k-10k-6647
END:VEVENT

END:VCALENDAR
