BEGIN:VCALENDAR
VERSION:2.0
PRODID:-//ChamberMaster//Event Calendar 2.0//EN
METHOD:PUBLISH
X-PUBLISHED-TTL:P3D
REFRESH-INTERVAL:P3D
CALSCALE:GREGORIAN
BEGIN:VEVENT
DTSTART:20190608T000000Z
DTEND:20190608T020000Z
X-MICROSOFT-CDO-ALLDAYEVENT:FALSE
SUMMARY:The Orchard Friday Night Family Fun
DESCRIPTION:Bring the family down to The Orchard Town Center in Westminster every Friday night June through August for Friday Night Family Fun! Some nights the audience may be part of the show and some nights you just sit back and enjoy the entertainment. Every week is a new theme! FREE and open to the public. All Shows run Friday nights 6-8pm on The Orchard entertainment stage. June 7th is the World of Dance Show: Come and enjoy the world of dance featuring different styles of dance from across the world! Dancers perform in traditional costumes from a variety of countries. Go on a journey all around the world to see different cultures in a fun exciting new way. Events also occurring June 14\, 21 and 28!
X-ALT-DESC;FMTTYPE=text/html:Bring the family down to The Orchard Town Center in Westminster every Friday night June through August for Friday Night Family Fun! Some nights the audience may be part of the show and some nights you just sit back and enjoy the entertainment. Every week is a new theme! FREE and open to the public. All Shows run Friday nights 6-8pm on The Orchard entertainment stage. June 7th is the World of Dance Show: Come and enjoy the world of dance featuring different styles of dance from across the world! Dancers perform in traditional costumes from a variety of countries. Go on a journey all around the world to see different cultures in a fun exciting new way. Events also occurring June 14\, 21 and 28!
LOCATION:Orchard Town Center 14697 Delaware St. Westminster CO 80023
UID:e.2690.10909
SEQUENCE:3
DTSTAMP:20260419T232410Z
URL:https://www.westminsterchamber.biz/events/details/the-orchard-friday-night-family-fun-10909
END:VEVENT

END:VCALENDAR
