BEGIN:VCALENDAR
VERSION:2.0
PRODID:-//ChamberMaster//Event Calendar 2.0//EN
METHOD:PUBLISH
X-PUBLISHED-TTL:P3D
REFRESH-INTERVAL:P3D
CALSCALE:GREGORIAN
BEGIN:VEVENT
DTSTART:20190602T000000Z
DTEND:20190602T020000Z
X-MICROSOFT-CDO-ALLDAYEVENT:FALSE
SUMMARY:The Orchard Saturday Summer Concert Series
DESCRIPTION:Presented by St. Anthony North Health Campus - Bring your lawn chairs down to The Orchard Town Center in Westminster and listen to Colorado's favorite bands! FREE and open to the public. All Shows run Saturday nights 6-8pm. SCHEDULE: June 1   Tunisia (R&B /Rock /Dance)\; June 8 - The Radio (High Energy Dance Band)\; June 15 - Narrow Gauge (Country Favorites)\; June 22 - The Long Run (Eagles Tribute)\; June 29 - Last Men on Earth (70's\, 80's\, 90's Rock)
X-ALT-DESC;FMTTYPE=text/html:Presented by St. Anthony North Health Campus - Bring your lawn chairs down to The Orchard Town Center in Westminster and listen to Colorado&rsquo\;s favorite bands! FREE and open to the public. All Shows run Saturday nights 6-8pm. SCHEDULE: June 1 &ndash\; Tunisia (R&amp\;B /Rock /Dance)\; June 8 - The Radio (High Energy Dance Band)\; June 15 - Narrow Gauge (Country Favorites)\; June 22 - The Long Run (Eagles Tribute)\; June 29 - Last Men on Earth (70&rsquo\;s\, 80&rsquo\;s\, 90&rsquo\;s Rock)
LOCATION:The Orchard Town Center 14697 Delaware St Westminster CO 80023
UID:e.2690.10908
SEQUENCE:3
DTSTAMP:20260419T232746Z
URL:https://www.westminsterchamber.biz/events/details/the-orchard-saturday-summer-concert-series-10908
END:VEVENT

END:VCALENDAR
