BEGIN:VCALENDAR
VERSION:2.0
PRODID:-//ChamberMaster//Event Calendar 2.0//EN
METHOD:PUBLISH
X-PUBLISHED-TTL:P3D
REFRESH-INTERVAL:P3D
CALSCALE:GREGORIAN
BEGIN:VEVENT
DTSTART:20181104T010000Z
DTEND:20181104T040000Z
X-MICROSOFT-CDO-ALLDAYEVENT:FALSE
SUMMARY:Total Beverage's 20th Anniversary Beer\, Wine\, & Spirit Tasting
DESCRIPTION:It's the 20th Anniversary of Total Beverage\, and we're hosting a beer\, wine\, and spirits tasting to celebrate! Taste from dozens of vendors and enjoy food from local restaurants at the Denver Marriott Westminster. Tickets available at totalbev.com.
X-ALT-DESC;FMTTYPE=text/html:<span style="background-color:transparent\; color:rgb(0\, 0\, 0)\; font-family:arial\; font-size:11pt">It&rsquo\;s the 20th Anniversary of Total Beverage\, and we&rsquo\;re hosting a beer\, wine\, and spirits tasting to celebrate! Taste from dozens of vendors and enjoy food from local restaurants at the Denver Marriott Westminster. Tickets available at <a href="https://www.totalbev.com/info/anniversarytasting">totalbev.com</a>.</span>
LOCATION:Denver Marriott Westminster 7000 Church Ranch Blvd\, Westminster\, CO 80021
UID:e.2690.7826
SEQUENCE:3
DTSTAMP:20260420T111336Z
URL:https://www.westminsterchamber.biz/events/details/total-beverage-s-20th-anniversary-beer-wine-spirit-tasting-7826
END:VEVENT

END:VCALENDAR
