BEGIN:VCALENDAR
VERSION:2.0
PRODID:-//ChamberMaster//Event Calendar 2.0//EN
METHOD:PUBLISH
X-PUBLISHED-TTL:P3D
REFRESH-INTERVAL:P3D
CALSCALE:GREGORIAN
BEGIN:VEVENT
DTSTART:20190211T230000Z
DTEND:20190212T000000Z
X-MICROSOFT-CDO-ALLDAYEVENT:FALSE
SUMMARY:Tracy's Place Coffeehouse Ribbon Cutting
DESCRIPTION:Tracy's Place on 88th and Wadsworth is opening up as a coffeehouse by day. With free Wi-Fi and premium coffee from Copper Door Roasters in Denver. \n\nWe will still have fun and exciting art classes available in the evenings. Simply book on www.tracysplc.com\n\n\n\nCome out to celebrate this new gathering space. Light refreshments available. The coffee\, wine\, beer and hard cider will be available for a discounted purchase. \n\n\n\nThere will also be a couple of giveaways.
X-ALT-DESC;FMTTYPE=text/html:<span style="color:#800000">Tracy&#39\;s Place on 88th and Wadsworth is opening up as a coffeehouse by day. With free Wi-Fi and premium coffee from Copper Door Roasters in Denver.&nbsp\;<br />\nWe will still have&nbsp\;fun and exciting art classes available in the evenings. Simply book on www.tracysplc.com<br />\n<br />\nCome out to celebrate this new gathering space. Light refreshments available. The coffee\, wine\, beer and hard cider will be available for a discounted purchase.&nbsp\;<br />\n<br />\nThere will also be a couple of giveaways.&nbsp\;</span>
LOCATION:Tracy's Place 7330 W 88th Ave Unit E (one block east of the 88th and Wadsworth ave intersection\, on the south side of 88th\, next to Cool Cuts for Kids)
UID:e.2690.10870
SEQUENCE:3
DTSTAMP:20260420T074736Z
URL:https://www.westminsterchamber.biz/events/details/tracy-s-place-coffeehouse-ribbon-cutting-10870
END:VEVENT

END:VCALENDAR
