BEGIN:VCALENDAR
VERSION:2.0
PRODID:-//ChamberMaster//Event Calendar 2.0//EN
METHOD:PUBLISH
X-PUBLISHED-TTL:P3D
REFRESH-INTERVAL:P3D
CALSCALE:GREGORIAN
BEGIN:VEVENT
DTSTART:20180721T150000Z
DTEND:20180721T220000Z
X-MICROSOFT-CDO-ALLDAYEVENT:FALSE
SUMMARY:Wellness Fair at Local Foods Market
DESCRIPTION:It's our second monthly wellness fair at Local Foods Market (72nd & Sheridan in Westminster\, Colorado). We've got free yoga\, a Q&A on hemp/CBD oil\, a plant-based cooking demo\, more than a dozen vendors with product demos and free samples\, burgers and veggieburgers on the grill\, incredible grocery deals\, face painting for children and so much more.\n\nHere's the full schedule:\n\n9 am-4pm   Vendors with product demonstrations and free samples\; face painting and coloring for children\n\n9:30-10:30 am   Free yoga with Palangi Fit (palangifit.com)   participants get a discount on smoothies or kombucha on tap\n\n10:35-11:30 am   Plant-based cooking demo with Serving Healthy (servinghealthy.com)\n\n11 am-2 pm   Lunch on the grill: Veggie burgers\, grass-fed hamburgers\, beef hot dogs for sale ($4 each or $5 for a meal with chips & drink)\n\n11:30 am-1:30 pm   Live music with Michael Gabriel (michaelgabrielmusic.com)\n\nNoon   CBD oil talk and Q&A with Functional Remedies (functionalremedies.com)\n\n1 pm   Wellness talk on stress hormones by Life Seasons (lifeseasons.com)\n\n2-5 pm   Iridology introductory consultations with Kathryn Brooks (15 minutes each\, by appointment\, $15   cash only\, signup in store)
X-ALT-DESC;FMTTYPE=text/html:<span style="color:rgb(96\, 96\, 96)\; font-family:roboto\,arial\,sans-serif\; font-size:15px">It&rsquo\;s our second monthly wellness fair at Local Foods Market (72nd &amp\; Sheridan in Westminster\, Colorado). We&rsquo\;ve got free yoga\, a Q&amp\;A on hemp/CBD oil\, a plant-based cooking demo\, more than a dozen vendors with product demos and free samples\, burgers and veggieburgers on the grill\, incredible grocery deals\, face painting for children and so much more.</span><br />\n<span style="color:rgb(96\, 96\, 96)\; font-family:roboto\,arial\,sans-serif\; font-size:15px">Here&rsquo\;s the full schedule:</span><br />\n<span style="color:rgb(96\, 96\, 96)\; font-family:roboto\,arial\,sans-serif\; font-size:15px">9 am-4pm &ndash\; Vendors with product demonstrations and free samples\; face painting and coloring for children</span><br />\n<span style="color:rgb(96\, 96\, 96)\; font-family:roboto\,arial\,sans-serif\; font-size:15px">9:30-10:30 am &ndash\; Free yoga with Palangi Fit (</span><a href="http://palangifit.com/" rel="noopener" style="box-sizing: inherit\; color: rgb(27\, 27\, 27)\; text-decoration-line: none\; outline: 0px\; font-family: Roboto\, Arial\, sans-serif\; font-size: 15px\;" target="_blank">palangifit.com</a><span style="color:rgb(96\, 96\, 96)\; font-family:roboto\,arial\,sans-serif\; font-size:15px">) &ndash\; participants get a discount on smoothies or kombucha on tap</span><br />\n<span style="color:rgb(96\, 96\, 96)\; font-family:roboto\,arial\,sans-serif\; font-size:15px">10:35-11:30 am &ndash\; Plant-based cooking demo with Serving Healthy (</span><a href="http://servinghealthy.com/" rel="noopener" style="box-sizing: inherit\; color: rgb(27\, 27\, 27)\; text-decoration-line: none\; outline: 0px\; font-family: Roboto\, Arial\, sans-serif\; font-size: 15px\;" target="_blank">servinghealthy.com</a><span style="color:rgb(96\, 96\, 96)\; font-family:roboto\,arial\,sans-serif\; font-size:15px">)</span><br />\n<span style="color:rgb(96\, 96\, 96)\; font-family:roboto\,arial\,sans-serif\; font-size:15px">11 am-2 pm &ndash\; Lunch on the grill: Veggie burgers\, grass-fed hamburgers\, beef hot dogs for sale ($4 each or $5 for a meal with chips &amp\; drink)</span><br />\n<span style="color:rgb(96\, 96\, 96)\; font-family:roboto\,arial\,sans-serif\; font-size:15px">11:30 am-1:30 pm &ndash\; Live music with Michael Gabriel (</span><a href="http://michaelgabrielmusic.com" rel="noopener" style="box-sizing: inherit\; color: rgb(27\, 27\, 27)\; text-decoration-line: none\; outline: 0px\; font-family: Roboto\, Arial\, sans-serif\; font-size: 15px\;" target="_blank">michaelgabrielmusic.com</a><span style="color:rgb(96\, 96\, 96)\; font-family:roboto\,arial\,sans-serif\; font-size:15px">)</span><br />\n<span style="color:rgb(96\, 96\, 96)\; font-family:roboto\,arial\,sans-serif\; font-size:15px">Noon &ndash\; CBD oil talk and Q&amp\;A with Functional Remedies (</span><a href="https://functionalremedies.com/" rel="noopener" style="box-sizing: inherit\; color: rgb(27\, 27\, 27)\; text-decoration-line: none\; outline: 0px\; font-family: Roboto\, Arial\, sans-serif\; font-size: 15px\;" target="_blank">functionalremedies.com</a><span style="color:rgb(96\, 96\, 96)\; font-family:roboto\,arial\,sans-serif\; font-size:15px">)</span><br />\n<span style="color:rgb(96\, 96\, 96)\; font-family:roboto\,arial\,sans-serif\; font-size:15px">1 pm &ndash\; Wellness talk on stress hormones by Life Seasons (</span><a href="http://lifeseasons.com/" rel="noopener" style="box-sizing: inherit\; color: rgb(27\, 27\, 27)\; text-decoration-line: none\; outline: 0px\; font-family: Roboto\, Arial\, sans-serif\; font-size: 15px\;" target="_blank">lifeseasons.com</a><span style="color:rgb(96\, 96\, 96)\; font-family:roboto\,arial\,sans-serif\; font-size:15px">)</span><br />\n<span style="color:rgb(96\, 96\, 96)\; font-family:roboto\,arial\,sans-serif\; font-size:15px">2-5 pm &ndash\; Iridology introductory consultations with Kathryn Brooks (15 minutes each\, by appointment\, $15 &ndash\; cash only\, signup in store)</span>
LOCATION:5005 W. 72nd Ave. Westminster\, CO 80030
UID:e.2690.7954
SEQUENCE:3
DTSTAMP:20260420T183635Z
URL:https://www.westminsterchamber.biz/events/details/wellness-fair-at-local-foods-market-7954
END:VEVENT

END:VCALENDAR
