BEGIN:VCALENDAR
VERSION:2.0
PRODID:-//ChamberMaster//Event Calendar 2.0//EN
METHOD:PUBLISH
X-PUBLISHED-TTL:P3D
REFRESH-INTERVAL:P3D
CALSCALE:GREGORIAN
BEGIN:VEVENT
DTSTART:20180703T190000Z
DTEND:20180703T210000Z
X-MICROSOFT-CDO-ALLDAYEVENT:FALSE
SUMMARY:Westminster 3to5 Club: Freedom Mapping Macro and Micro Maps - Part 1
DESCRIPTION:TOPIC: Freedom Mapping Macro and Micro Maps - Part 1\n\n\n\n\nThe first meeting of the month is focused on understanding the content.\n\n\n\nThe second meeting of the month is focused on how can you implement what has been learned.\n\n\n\nEach meeting we will have 2-Member Bottlenecks:\n\nA bottleneck is something that is standing in your way of growing a Mature Business.\n\n\n\nThis is the time in our meeting where we bring two members to the front to discuss and address a problem\, obstacle or opportunity in their business. This is your opportunity to get some invaluable advice/outside eyes on your business.
X-ALT-DESC;FMTTYPE=text/html:<h2><span style="background-color:rgb(246\, 247\, 248)\; color:rgb(46\, 62\, 72)\; font-family:graphik meetup\,-apple-system\,system-ui\,roboto\,helvetica\,arial\,sans-serif\; font-size:16px">TOPIC: Freedom Mapping Macro and Micro Maps - Part 1</span></h2>\n\n<div>\n<p><br />\nThe first meeting of the month is focused on understanding the content.<br />\n<br />\nThe second meeting of the month is focused on how can you implement what has been learned.<br />\n<br />\nEach meeting we will have 2-Member Bottlenecks:<br />\nA bottleneck is something that is standing in your way of growing a Mature Business.<br />\n<br />\nThis is the time in our meeting where we bring two members to the front to discuss and address a problem\, obstacle or opportunity in their business. This is your opportunity to get some invaluable advice/outside eyes on your business.</p>\n</div>\n
LOCATION:Reveal Business Solutions 1333 W 120th Ave. Suite 116 Westminster\, CO\, 80234
UID:e.2690.6796
SEQUENCE:3
DTSTAMP:20260420T183153Z
URL:https://www.westminsterchamber.biz/events/details/westminster-3to5-club-freedom-mapping-macro-and-micro-maps-part-1-6796
END:VEVENT

END:VCALENDAR
