BEGIN:VCALENDAR
VERSION:2.0
PRODID:-//ChamberMaster//Event Calendar 2.0//EN
METHOD:PUBLISH
X-PUBLISHED-TTL:P3D
REFRESH-INTERVAL:P3D
CALSCALE:GREGORIAN
BEGIN:VEVENT
DTSTART:20190720T170000Z
DTEND:20190721T020000Z
X-MICROSOFT-CDO-ALLDAYEVENT:FALSE
SUMMARY:Westminster Latino Fest
DESCRIPTION:Westminster Latino Festival\n\n \n\nSaturday\, July 20\n\n11 a.m. to 8 p.m.\n\nWestminster Station\, 6995 Grove St.\nThe Westminster Latino Festival is a free\, day-long celebration of Latino culture. At this year's festival\, you will hear live music\, learn about different types of dance\, sample delicious food\, see Luchadores\, a low-rider car show and more.
X-ALT-DESC;FMTTYPE=text/html:<h3><span><span style="font-size:12.0pt\;font-family:&quot\;Arial&quot\;\,sans-serif\;&#10\;mso-fareast-font-family:&quot\;Times New Roman&quot\;">Westminster Latino Festival</span></span></h3>\n\n<p><span style="font-size:9.0pt\;font-family:&quot\;Helvetica&quot\;\,sans-serif\;&#10\;mso-fareast-font-family:&quot\;Times New Roman&quot\;">&nbsp\;</span></p>\n\n<p><span><span style="font-size:10.5pt\;&#10\;font-family:&quot\;Arial&quot\;\,sans-serif\;mso-fareast-font-family:&quot\;Times New Roman&quot\;\;&#10\;color:#333333">Saturday\, July 20</span></span><br />\n<span style="font-size:10.5pt\;&#10\;font-family:&quot\;Arial&quot\;\,sans-serif\;mso-fareast-font-family:&quot\;Times New Roman&quot\;\;&#10\;color:#333333"><span>11 a.m. to 8 p.m.</span><br />\n<span>Westminster Station\, 6995 Grove St.</span></span></p>\n<span><span style="font-size:10.5pt\;font-family:&quot\;Arial&quot\;\,sans-serif\;&#10\;mso-fareast-font-family:&quot\;Times New Roman&quot\;\;color:#333333\;mso-ansi-language:EN-US\;&#10\;mso-fareast-language:EN-US\;mso-bidi-language:AR-SA">The Westminster Latino Festival is a free\, day-long celebration of Latino culture. At this year&#39\;s festival\, you will hear live music\, learn about different types of dance\, sample delicious food\, see Luchadores\, a low-rider car show and more.&nbsp\;</span></span>
LOCATION:
UID:e.2690.11608
SEQUENCE:3
DTSTAMP:20260420T010706Z
URL:https://www.westminsterchamber.biz/events/details/westminster-latino-fest-11608
END:VEVENT

END:VCALENDAR
