BEGIN:VCALENDAR
VERSION:2.0
PRODID:-//ChamberMaster//Event Calendar 2.0//EN
METHOD:PUBLISH
X-PUBLISHED-TTL:P3D
REFRESH-INTERVAL:P3D
CALSCALE:GREGORIAN
BEGIN:VEVENT
DTSTART:20171022T000000Z
DTEND:20171022T030000Z
X-MICROSOFT-CDO-ALLDAYEVENT:FALSE
SUMMARY:Westminster Legacy Foundation's 15th Annual Wine\, Beer and Spirit Tasting
DESCRIPTION:Sip wine for a good cause! The Westminster Legacy Foundation will use all event proceeds to provide grants to local non-profits working to make Westminster an outstanding community in which to live\, work and play
X-ALT-DESC;FMTTYPE=text/html:Sip wine for a good cause! The Westminster Legacy Foundation will use all event proceeds to provide grants to local non-profits working to make Westminster an outstanding community in which to live\, work and play
LOCATION:Marriott Westminster
UID:e.2690.5420
SEQUENCE:3
DTSTAMP:20260421T123408Z
URL:https://www.westminsterchamber.biz/events/details/westminster-legacy-foundation-s-15th-annual-wine-beer-and-spirit-tasting-5420
END:VEVENT

END:VCALENDAR
