BEGIN:VCALENDAR
VERSION:2.0
PRODID:-//ChamberMaster//Event Calendar 2.0//EN
METHOD:PUBLISH
X-PUBLISHED-TTL:P3D
REFRESH-INTERVAL:P3D
CALSCALE:GREGORIAN
BEGIN:VEVENT
DTSTART;VALUE=DATE:20170805
DTEND;VALUE=DATE:20170806
TRANSP:TRANSPARENT
X-MICROSOFT-CDO-ALLDAYEVENT:TRUE
SUMMARY:Westminster Presbyterian Church - 125 Years
DESCRIPTION:The Westminster Presbyterian Church is celebrating it's 125th Anniversary on August 5.  You are invited to be a part of the gala which will include a silent an dlive action\, live music\, introduction to long time church members and a history of the church itself.
X-ALT-DESC;FMTTYPE=text/html:<font face="georgia\, times new roman\, times\, serif"><span style="font-size: 12.96px\; background-color: rgb(239\, 239\, 239)\;">The Westminster Presbyterian Church is celebrating it&#39\;s 125th&nbsp\;Anniversary on August 5. &nbsp\;You are invited to be a part of the gala which will include a silent an dlive action\, live music\, introduction to long time church members and a history of the church itself.</span></font>
LOCATION:Westminster Recreation Center 10455 Sheridan Blvd Westminster\, CO
UID:e.2690.5438
SEQUENCE:3
DTSTAMP:20260421T134849Z
URL:https://www.westminsterchamber.biz/events/details/westminster-presbyterian-church-125-years-5438
END:VEVENT

END:VCALENDAR
