BEGIN:VCALENDAR
VERSION:2.0
PRODID:-//ChamberMaster//Event Calendar 2.0//EN
METHOD:PUBLISH
X-PUBLISHED-TTL:P3D
REFRESH-INTERVAL:P3D
CALSCALE:GREGORIAN
BEGIN:VEVENT
DTSTART:20190704T220000Z
DTEND:20190705T040000Z
X-MICROSOFT-CDO-ALLDAYEVENT:FALSE
SUMMARY:Westminster's - 4th of July Celebration
DESCRIPTION:Don't miss the best fireworks display in the north metro area! Get there early activities\, food vendors\, beer garden\, and performances start at 4 p.m. Concert featuring Rockslide begins at 7 p.m. and the fireworks go off at 9:15 p.m. \n\n\n\nThere will be a FREE shuttle bus from many locations in Westminster.\n\n\n\nPlease note: grills\, glass containers\, personal fireworks and outside alcohol are not allowed at the event. \n\n\n\nPresented by St. Anthony North Health Campus. In association with  Alamo Drafthouse Cinema\, supported by Westminster Public Schools\, Scientific & Cultural Facilities District - SCFD and North Metro Arts Alliance.\n\n\n\nVIEW SHUTTLE SCHEDULE
X-ALT-DESC;FMTTYPE=text/html:<p style="border-bottom-color: currentColor\; border-bottom-style: none\; border-bottom-width: 0px\; border-image-outset: 0\; border-image-repeat: stretch\; border-image-slice: 100%\; border-image-source: none\; border-image-width: 1\; border-left-color: currentColor\; border-left-style: none\; border-left-width: 0px\; border-right-color: currentColor\; border-right-style: none\; border-right-width: 0px\; border-top-color: currentColor\; border-top-style: none\; border-top-width: 0px\; box-sizing: border-box\; color: rgb(85\, 87\, 89)\; font-family: inherit\; font-size: inherit\; font-size-adjust: none\; font-stretch: inherit\; font-style: inherit\; font-variant: inherit\; font-weight: inherit\; letter-spacing: normal\; line-height: inherit\; margin-bottom: 20px\; margin-left: 0px\; margin-right: 0px\; margin-top: 0px\; orphans: 2\; padding-bottom: 0px\; padding-left: 0px\; padding-right: 0px\; padding-top: 0px\; text-align: left\; text-decoration: none\; text-indent: 0px\; text-transform: none\; vertical-align: baseline\; -webkit-text-stroke-width: 0px\; white-space: normal\; word-spacing: 0px\;">Don&rsquo\;t miss the best fireworks display in the north metro area! Get there early&mdash\;activities\, food vendors\, beer garden\, and performances start at 4 p.m. Concert featuring Rockslide begins at 7 p.m. and the fireworks go off at 9:15 p.m.&nbsp\;<br style="box-sizing: border-box\;" />\n<br style="box-sizing: border-box\;" />\nThere will be a <strong style="border-bottom-color: currentColor\; border-bottom-style: none\; border-bottom-width: 0px\; border-image-outset: 0\; border-image-repeat: stretch\; border-image-slice: 100%\; border-image-source: none\; border-image-width: 1\; border-left-color: currentColor\; border-left-style: none\; border-left-width: 0px\; border-right-color: currentColor\; border-right-style: none\; border-right-width: 0px\; border-top-color: currentColor\; border-top-style: none\; border-top-width: 0px\; box-sizing: border-box\; font-family: inherit\; font-size: inherit\; font-size-adjust: none\; font-stretch: inherit\; font-style: inherit\; font-variant: inherit\; font-weight: 700\; line-height: inherit\; margin-bottom: 0px\; margin-left: 0px\; margin-right: 0px\; margin-top: 0px\; padding-bottom: 0px\; padding-left: 0px\; padding-right: 0px\; padding-top: 0px\; vertical-align: baseline\;"><a href="https://www.cityofwestminster.us/Portals/1/Documents/Parks%20and%20Recreation%20-%20Documents/Parks%20and%20Recreation%20LANDING%20PAGE/Special%20Events/FourthofJuly_ShuttleFlyer.pdf?ver=2019-05-29-083530-457" style="background-color: transparent\; border-bottom-color: currentColor\; border-bottom-style: none\; border-bottom-width: 0px\; border-image-outset: 0\; border-image-repeat: stretch\; border-image-slice: 100%\; border-image-source: none\; border-image-width: 1\; border-left-color: currentColor\; border-left-style: none\; border-left-width: 0px\; border-right-color: currentColor\; border-right-style: none\; border-right-width: 0px\; border-top-color: currentColor\; border-top-style: none\; border-top-width: 0px\; box-sizing: border-box\; color: rgb(0\, 137\, 149)\; font-family: inherit\; font-size: inherit\; font-size-adjust: none\; font-stretch: inherit\; font-style: inherit\; font-variant: inherit\; font-weight: inherit\; line-height: inherit\; margin-bottom: 0px\; margin-left: 0px\; margin-right: 0px\; margin-top: 0px\; outline-color: invert\; outline-style: none\; outline-width: 0px\; padding-bottom: 0px\; padding-left: 0px\; padding-right: 0px\; padding-top: 0px\; text-decoration: none\; vertical-align: baseline\;" target="_blank">FREE shuttle bus</a></strong> from many locations in Westminster.<br style="box-sizing: border-box\;" />\n<br style="box-sizing: border-box\;" />\nPlease note: grills\, glass containers\, personal fireworks and outside alcohol are not allowed at the event.&nbsp\;<br style="box-sizing: border-box\;" />\n<br style="box-sizing: border-box\;" />\nPresented by St. Anthony North Health Campus. In association with&nbsp\; Alamo Drafthouse Cinema\, supported by Westminster Public Schools\, Scientific &amp\; Cultural Facilities District - SCFD and North Metro Arts Alliance.</p>\n\n<p style="border-bottom-color: currentColor\; border-bottom-style: none\; border-bottom-width: 0px\; border-image-outset: 0\; border-image-repeat: stretch\; border-image-slice: 100%\; border-image-source: none\; border-image-width: 1\; border-left-color: currentColor\; border-left-style: none\; border-left-width: 0px\; border-right-color: currentColor\; border-right-style: none\; border-right-width: 0px\; border-top-color: currentColor\; border-top-style: none\; border-top-width: 0px\; box-sizing: border-box\; color: rgb(85\, 87\, 89)\; font-family: inherit\; font-size: inherit\; font-size-adjust: none\; font-stretch: inherit\; font-style: inherit\; font-variant: inherit\; font-weight: inherit\; letter-spacing: normal\; line-height: inherit\; margin-bottom: 20px\; margin-left: 0px\; margin-right: 0px\; margin-top: 0px\; orphans: 2\; padding-bottom: 0px\; padding-left: 0px\; padding-right: 0px\; padding-top: 0px\; text-align: left\; text-decoration: none\; text-indent: 0px\; text-transform: none\; vertical-align: baseline\; -webkit-text-stroke-width: 0px\; white-space: normal\; word-spacing: 0px\;"><br style="box-sizing: border-box\;" />\n<strong style="border-bottom-color: currentColor\; border-bottom-style: none\; border-bottom-width: 0px\; border-image-outset: 0\; border-image-repeat: stretch\; border-image-slice: 100%\; border-image-source: none\; border-image-width: 1\; border-left-color: currentColor\; border-left-style: none\; border-left-width: 0px\; border-right-color: currentColor\; border-right-style: none\; border-right-width: 0px\; border-top-color: currentColor\; border-top-style: none\; border-top-width: 0px\; box-sizing: border-box\; font-family: inherit\; font-size: inherit\; font-size-adjust: none\; font-stretch: inherit\; font-style: inherit\; font-variant: inherit\; font-weight: 700\; line-height: inherit\; margin-bottom: 0px\; margin-left: 0px\; margin-right: 0px\; margin-top: 0px\; padding-bottom: 0px\; padding-left: 0px\; padding-right: 0px\; padding-top: 0px\; vertical-align: baseline\;"><a href="https://www.cityofwestminster.us/Portals/1/Documents/Parks%20and%20Recreation%20-%20Documents/Parks%20and%20Recreation%20LANDING%20PAGE/Special%20Events/FourthofJuly_ShuttleFlyer.pdf?ver=2019-05-29-083530-457" style="background-color: transparent\; border-bottom-color: currentColor\; border-bottom-style: none\; border-bottom-width: 0px\; border-image-outset: 0\; border-image-repeat: stretch\; border-image-slice: 100%\; border-image-source: none\; border-image-width: 1\; border-left-color: currentColor\; border-left-style: none\; border-left-width: 0px\; border-right-color: currentColor\; border-right-style: none\; border-right-width: 0px\; border-top-color: currentColor\; border-top-style: none\; border-top-width: 0px\; box-sizing: border-box\; color: rgb(0\, 137\, 149)\; font-family: inherit\; font-size: inherit\; font-size-adjust: none\; font-stretch: inherit\; font-style: inherit\; font-variant: inherit\; font-weight: inherit\; line-height: inherit\; margin-bottom: 0px\; margin-left: 0px\; margin-right: 0px\; margin-top: 0px\; outline-color: invert\; outline-style: none\; outline-width: 0px\; padding-bottom: 0px\; padding-left: 0px\; padding-right: 0px\; padding-top: 0px\; text-decoration: none\; vertical-align: baseline\;" target="_blank">VIEW SHUTTLE SCHEDULE</a></strong></p>\n
LOCATION:City-Park Westminster\, CO
UID:e.2690.11073
SEQUENCE:3
DTSTAMP:20260420T010816Z
URL:https://www.westminsterchamber.biz/events/details/westminster-s-4th-of-july-celebration-11073
END:VEVENT

END:VCALENDAR
