BEGIN:VCALENDAR
VERSION:2.0
PRODID:-//ChamberMaster//Event Calendar 2.0//EN
METHOD:PUBLISH
X-PUBLISHED-TTL:P3D
REFRESH-INTERVAL:P3D
CALSCALE:GREGORIAN
BEGIN:VEVENT
DTSTART:20160426T143000Z
DTEND:20160426T153000Z
X-MICROSOFT-CDO-ALLDAYEVENT:FALSE
SUMMARY:Westminster Young Professionals
DESCRIPTION:Westminster Young Professionals\n\n			Young Professionals are professionals age 40 and under. We have a meeting once a month for one Power Hour. The next WYP meeting is April 26th 8:30am - 9:30am at Lifetime Spa Westminster\, 397 W 148th Ave\, Westminster.  \n\n			Each month a speaker is chosen that is top of industry\, that our Young Professionals will learn a great deal from.\n\n			Why should I send someone to a WYP meeting? or Why should I attend a WYP Meeting?\n\n			If you have someone in your organization that is a natural leader\, or has the potential to be a great leader\, get them to a Westminster Young Professionals meeting. One hour of drink-through-a-fire-hose information each month. 30 minutes of professional development\, 15 minutes of peer networking and strategic planning and 15 minutes of event/community/economic development updates.  WYP's are the future leaders of our businesses\, our communities\, our state.  Let's make sure they have the right training to be the very best they can be.
X-ALT-DESC;FMTTYPE=text/html:<table align="left" border="0" cellpadding="0" cellspacing="0" style="width: 100%\; border-collapse: collapse\;" width="100%">\n	<tbody>\n		<tr>\n			<td style="padding: 6.75pt 13.5pt\; border: rgb(0\, 0\, 0)\; vertical-align: top\;"><strong><span style="font-family: helvetica\,sans-serif\;"><span style="color: rgb(32\, 32\, 32)\;"><span style="font-size: medium\;">Westminster Young Professionals</span></span></span></strong><br />\n			<span style="font-family: helvetica\,sans-serif\;"><span style="color: rgb(32\, 32\, 32)\;"><span style="font-size: medium\;">Young Professionals are professionals age 40 and under. We have a meeting once a month for one Power Hour. The next WYP meeting is April 26th 8:30am - 9:30am at Lifetime Spa Westminster\,&nbsp\;397 W 148th Ave\, Westminster. &nbsp\;<br />\n			Each month a speaker is chosen that is top of industry\, that our Young Professionals will learn a great deal from.<br />\n			<strong><em><span style="font-family: helvetica\,sans-serif\;">Why should I send someone to a WYP meeting? or Why should I attend a WYP Meeting?</span></em></strong><br />\n			If you have someone in your organization that is a natural leader\, or has the potential to be a great leader\, get them to a Westminster Young Professionals meeting. One hour of drink-through-a-fire-hose information each month. 30 minutes of professional development\, 15 minutes of peer networking and strategic planning and 15 minutes of event/community/economic development updates. &nbsp\;WYP&#39\;s are the future leaders of our businesses\, our communities\, our state. &nbsp\;Let&#39\;s make sure they have the right training to be the very best they can be. </span></span></span></td>\n		</tr>\n	</tbody>\n</table>\n
LOCATION:Lifetime Spa Westminster 397 W 148th Avenue Westminster\, CO
UID:e.2690.2167
SEQUENCE:3
DTSTAMP:20260422T185723Z
URL:https://www.westminsterchamber.biz/events/details/westminster-young-professionals-04-26-2016-2167
END:VEVENT

END:VCALENDAR
