BEGIN:VCALENDAR
VERSION:2.0
PRODID:-//ChamberMaster//Event Calendar 2.0//EN
METHOD:PUBLISH
X-PUBLISHED-TTL:P3D
REFRESH-INTERVAL:P3D
CALSCALE:GREGORIAN
BEGIN:VEVENT
DTSTART:20190728T000000Z
DTEND:20190728T030000Z
X-MICROSOFT-CDO-ALLDAYEVENT:FALSE
SUMMARY:Westy Craft Brewfest
DESCRIPTION:Westminster's premier beer festival is back and better than ever! Presented by RE/MAX\, this year's event features over 50 regional breweries! Enjoy unlimited 5-oz. beer samples while enjoying live music by Pandas & People\, food trucks\, and unparalleled vistas of the Front Range. Childcare available on site for kids 7 and older. Buy your ticket in advance and save $5! Tickets are limited so you can enjoy the beer not long lines.\n\n\n\nTICKETS: **Early Bird Special May 1-15**\n\n**Purchase before May 15 and save $5 on General Admission!**\n\n$40 General Admission ($50 day of event)\n\n$60 VIP ($65 day of event)\n\n$5 DD and Non-Drinkers (Age 7 and older)\n\n\n\nVIP gates open at 5 p.m. Enjoy an extra hour of tastings\, plus food and lounge seating in an exclusive\, VIP-only tent!
X-ALT-DESC;FMTTYPE=text/html:<span style="display: inline !important\; float: none\; background-color: rgb(255\, 255\, 255)\; color: rgb(85\, 87\, 89)\; font-family: inherit\; font-size: inherit\; font-size-adjust: none\; font-stretch: inherit\; font-style: inherit\; font-variant: inherit\; font-weight: inherit\; letter-spacing: normal\; line-height: inherit\; orphans: 2\; text-align: left\; text-decoration: none\; text-indent: 0px\; text-transform: none\; -webkit-text-stroke-width: 0px\; white-space: normal\; word-spacing: 0px\;">Westminster&#39\;s premier beer festival is back and better than ever! Presented by RE/MAX\, this year&#39\;s event features over 50 regional breweries! Enjoy unlimited 5-oz. beer samples while enjoying live music by Pandas &amp\; People\, food trucks\, and unparalleled vistas of the Front Range. Childcare available on site for kids 7 and older. Buy your ticket in advance and save $5! Tickets are limited so you can enjoy the beer&mdash\;not long lines.</span><br style="box-sizing: border-box\; color: rgb(85\, 87\, 89)\; font-family: &amp\;quot\;Montserrat&amp\;quot\;\,sans-serif\; font-size: 16px\; font-style: normal\; font-variant: normal\; font-weight: 300\; letter-spacing: normal\; orphans: 2\; text-align: left\; text-decoration: none\; text-indent: 0px\; text-transform: none\; -webkit-text-stroke-width: 0px\; white-space: normal\; word-spacing: 0px\;" />\n<br style="box-sizing: border-box\; color: rgb(85\, 87\, 89)\; font-family: &amp\;quot\;Montserrat&amp\;quot\;\,sans-serif\; font-size: 16px\; font-style: normal\; font-variant: normal\; font-weight: 300\; letter-spacing: normal\; orphans: 2\; text-align: left\; text-decoration: none\; text-indent: 0px\; text-transform: none\; -webkit-text-stroke-width: 0px\; white-space: normal\; word-spacing: 0px\;" />\n<span style="display: inline !important\; float: none\; background-color: rgb(255\, 255\, 255)\; color: rgb(85\, 87\, 89)\; font-family: inherit\; font-size: inherit\; font-size-adjust: none\; font-stretch: inherit\; font-style: inherit\; font-variant: inherit\; font-weight: inherit\; letter-spacing: normal\; line-height: inherit\; orphans: 2\; text-align: left\; text-decoration: none\; text-indent: 0px\; text-transform: none\; -webkit-text-stroke-width: 0px\; white-space: normal\; word-spacing: 0px\;">TICKETS: **Early Bird Special May 1-15**</span><br style="box-sizing: border-box\; color: rgb(85\, 87\, 89)\; font-family: &amp\;quot\;Montserrat&amp\;quot\;\,sans-serif\; font-size: 16px\; font-style: normal\; font-variant: normal\; font-weight: 300\; letter-spacing: normal\; orphans: 2\; text-align: left\; text-decoration: none\; text-indent: 0px\; text-transform: none\; -webkit-text-stroke-width: 0px\; white-space: normal\; word-spacing: 0px\;" />\n<span style="display: inline !important\; float: none\; background-color: rgb(255\, 255\, 255)\; color: rgb(85\, 87\, 89)\; font-family: inherit\; font-size: inherit\; font-size-adjust: none\; font-stretch: inherit\; font-style: inherit\; font-variant: inherit\; font-weight: inherit\; letter-spacing: normal\; line-height: inherit\; orphans: 2\; text-align: left\; text-decoration: none\; text-indent: 0px\; text-transform: none\; -webkit-text-stroke-width: 0px\; white-space: normal\; word-spacing: 0px\;">**Purchase before May 15 and save $5 on General Admission!**</span><br style="box-sizing: border-box\; color: rgb(85\, 87\, 89)\; font-family: &amp\;quot\;Montserrat&amp\;quot\;\,sans-serif\; font-size: 16px\; font-style: normal\; font-variant: normal\; font-weight: 300\; letter-spacing: normal\; orphans: 2\; text-align: left\; text-decoration: none\; text-indent: 0px\; text-transform: none\; -webkit-text-stroke-width: 0px\; white-space: normal\; word-spacing: 0px\;" />\n<span style="display: inline !important\; float: none\; background-color: rgb(255\, 255\, 255)\; color: rgb(85\, 87\, 89)\; font-family: inherit\; font-size: inherit\; font-size-adjust: none\; font-stretch: inherit\; font-style: inherit\; font-variant: inherit\; font-weight: inherit\; letter-spacing: normal\; line-height: inherit\; orphans: 2\; text-align: left\; text-decoration: none\; text-indent: 0px\; text-transform: none\; -webkit-text-stroke-width: 0px\; white-space: normal\; word-spacing: 0px\;">$40 General Admission ($50 day of event)</span><br style="box-sizing: border-box\; color: rgb(85\, 87\, 89)\; font-family: &amp\;quot\;Montserrat&amp\;quot\;\,sans-serif\; font-size: 16px\; font-style: normal\; font-variant: normal\; font-weight: 300\; letter-spacing: normal\; orphans: 2\; text-align: left\; text-decoration: none\; text-indent: 0px\; text-transform: none\; -webkit-text-stroke-width: 0px\; white-space: normal\; word-spacing: 0px\;" />\n<span style="display: inline !important\; float: none\; background-color: rgb(255\, 255\, 255)\; color: rgb(85\, 87\, 89)\; font-family: inherit\; font-size: inherit\; font-size-adjust: none\; font-stretch: inherit\; font-style: inherit\; font-variant: inherit\; font-weight: inherit\; letter-spacing: normal\; line-height: inherit\; orphans: 2\; text-align: left\; text-decoration: none\; text-indent: 0px\; text-transform: none\; -webkit-text-stroke-width: 0px\; white-space: normal\; word-spacing: 0px\;">$60 VIP ($65 day of event)</span><br style="box-sizing: border-box\; color: rgb(85\, 87\, 89)\; font-family: &amp\;quot\;Montserrat&amp\;quot\;\,sans-serif\; font-size: 16px\; font-style: normal\; font-variant: normal\; font-weight: 300\; letter-spacing: normal\; orphans: 2\; text-align: left\; text-decoration: none\; text-indent: 0px\; text-transform: none\; -webkit-text-stroke-width: 0px\; white-space: normal\; word-spacing: 0px\;" />\n<span style="display: inline !important\; float: none\; background-color: rgb(255\, 255\, 255)\; color: rgb(85\, 87\, 89)\; font-family: inherit\; font-size: inherit\; font-size-adjust: none\; font-stretch: inherit\; font-style: inherit\; font-variant: inherit\; font-weight: inherit\; letter-spacing: normal\; line-height: inherit\; orphans: 2\; text-align: left\; text-decoration: none\; text-indent: 0px\; text-transform: none\; -webkit-text-stroke-width: 0px\; white-space: normal\; word-spacing: 0px\;">$5 DD and Non-Drinkers (Age 7 and older)</span><br style="box-sizing: border-box\; color: rgb(85\, 87\, 89)\; font-family: &amp\;quot\;Montserrat&amp\;quot\;\,sans-serif\; font-size: 16px\; font-style: normal\; font-variant: normal\; font-weight: 300\; letter-spacing: normal\; orphans: 2\; text-align: left\; text-decoration: none\; text-indent: 0px\; text-transform: none\; -webkit-text-stroke-width: 0px\; white-space: normal\; word-spacing: 0px\;" />\n<br style="box-sizing: border-box\; color: rgb(85\, 87\, 89)\; font-family: &amp\;quot\;Montserrat&amp\;quot\;\,sans-serif\; font-size: 16px\; font-style: normal\; font-variant: normal\; font-weight: 300\; letter-spacing: normal\; orphans: 2\; text-align: left\; text-decoration: none\; text-indent: 0px\; text-transform: none\; -webkit-text-stroke-width: 0px\; white-space: normal\; word-spacing: 0px\;" />\n<span style="display: inline !important\; float: none\; background-color: rgb(255\, 255\, 255)\; color: rgb(85\, 87\, 89)\; font-family: inherit\; font-size: inherit\; font-size-adjust: none\; font-stretch: inherit\; font-style: inherit\; font-variant: inherit\; font-weight: inherit\; letter-spacing: normal\; line-height: inherit\; orphans: 2\; text-align: left\; text-decoration: none\; text-indent: 0px\; text-transform: none\; -webkit-text-stroke-width: 0px\; white-space: normal\; word-spacing: 0px\;">VIP gates open at 5 p.m. Enjoy an extra hour of tastings\, plus food and lounge seating in an exclusive\, VIP-only tent!</span>
LOCATION:
UID:e.2690.11609
SEQUENCE:3
DTSTAMP:20260420T024010Z
URL:https://www.westminsterchamber.biz/events/details/westy-craft-brewfest-11609
END:VEVENT

END:VCALENDAR
