BEGIN:VCALENDAR
VERSION:2.0
PRODID:-//ChamberMaster//Event Calendar 2.0//EN
METHOD:PUBLISH
X-PUBLISHED-TTL:P3D
REFRESH-INTERVAL:P3D
CALSCALE:GREGORIAN
BEGIN:VEVENT
DTSTART:20190710T160000Z
DTEND:20190710T180000Z
X-MICROSOFT-CDO-ALLDAYEVENT:FALSE
SUMMARY:Whimsical Wednesdays at The Orchard
DESCRIPTION:Bring your little ones and have a blast! Each week a different themed show\, activities\, and goodie bags. Free and open to the public. Don't miss the fun! Events from 10am-12pm\, but shows start at 10:30 so grab your spot by 10am! Shows are done by 11:30am Three events in July! July 10th: Wizard of Oz\; July 24th: Land of the Lost\; July 31st: Field Day.
X-ALT-DESC;FMTTYPE=text/html:Bring your little ones and have a blast! Each week a different themed show\, activities\, and goodie bags. Free and open to the public. Don&rsquo\;t miss the fun! Events from 10am-12pm\, but shows start at 10:30 so grab your spot by 10am! Shows are done by 11:30am Three events in July! July 10th: Wizard of Oz\; July 24th: Land of the Lost\; July 31st: Field Day.
LOCATION:The Orchard Town Center 14697 Delaware Street Westminster CO 80023
UID:e.2690.11060
SEQUENCE:3
DTSTAMP:20260420T010734Z
URL:https://www.westminsterchamber.biz/events/details/whimsical-wednesdays-at-the-orchard-11060
END:VEVENT

END:VCALENDAR
