BEGIN:VCALENDAR
VERSION:2.0
PRODID:-//ChamberMaster//Event Calendar 2.0//EN
METHOD:PUBLISH
X-PUBLISHED-TTL:P3D
REFRESH-INTERVAL:P3D
CALSCALE:GREGORIAN
BEGIN:VEVENT
DTSTART;VALUE=DATE:20190208
DTEND;VALUE=DATE:20190209
TRANSP:TRANSPARENT
X-MICROSOFT-CDO-ALLDAYEVENT:TRUE
SUMMARY:Winter Bike To Work Day
DESCRIPTION:Sign up today!\n\n			Are your tires pumped? Is your bag packed?\n\n			Winter Bike to Work Day is this Friday\, Feb. 8*\n\n			Join folks from around the world as we celebrate winter biking. Don your scarf and snap some pics to share: #winterbiketoworkday.\n\n			We can't wait to see you out there. Don't forget to register and scout out a breakfast station in your area.\n\n			See you on two wheels!\n\n			Questions? Email us.\n\n			* Signing up is a pledge to try bike commuting this winter. Should we have inclement weather on Feb. 8\, it's OK to ride another day. We also recommend you take every precaution to make certain trail and riding conditions are safe and you're properly prepared.
X-ALT-DESC;FMTTYPE=text/html:<table align="center" border="0" cellpadding="0" cellspacing="0" style="border-collapse:collapse\;">\n	<tbody>\n		<tr>\n			<td style="background:rgb(246\, 255\, 255)\;padding:0in\;border:0px rgb(0\, 0\, 0)\;width:600px\;"><span style="top:-3pt\;position:relative\;"><span style="font-size:25.5pt\;"><span style="font-family:arial\,sans-serif\;"><span style="color:#73afaa\;"><a href="https://drcog.cmail20.com/t/d-l-nkdtie-gduuuuruk-y/"><span style="color:#b3ba06\;">Sign up</span></a></span> today!</span></span></span><br />\n			<span style="top:-3pt\;position:relative\;"><span style="font-family:arial\,sans-serif\;"><span style="color:black\;"><span style="font-size:medium\;">Are your tires pumped? Is your bag packed?</span></span></span></span><br />\n			<strong><span style="top:-3pt\;position:relative\;"><span style="font-family:arial\,sans-serif\;"><span style="color:black\;"><span style="font-size:medium\;">Winter Bike to Work Day is this Friday\, Feb. 8*</span></span></span></span></strong><br />\n			<span style="top:-3pt\;position:relative\;"><span style="font-family:arial\,sans-serif\;"><span style="color:black\;"><span style="font-size:medium\;">Join folks from around the world as we celebrate winter biking. Don your scarf and snap some pics to share: #winterbiketoworkday.</span></span></span></span><br />\n			<span style="top:-3pt\;position:relative\;"><span style="font-family:arial\,sans-serif\;"><span style="color:black\;"><span style="font-size:medium\;">We can&#39\;t wait to see you out there. <a href="https://drcog.cmail20.com/t/d-l-nkdtie-gduuuuruk-j/" style="transition:opacity 0.1s ease-in\;"><span style="color:#b3ba06\;">Don&#39\;t forget to register</span></a></span> and scout out a breakfast station in your area.</span></span></span><br />\n			<span style="top:-3pt\;position:relative\;"><span style="font-family:arial\,sans-serif\;"><span style="color:black\;"><span style="font-size:medium\;">See you on two wheels!</span></span></span></span><br />\n			<span style="top:-3pt\;position:relative\;"><span style="font-size:10.5pt\;"><span style="font-family:arial\,sans-serif\;"><span style="color:black\;">Questions? <a style="transition:opacity 0.1s ease-in\;"><span style="color:#b3ba06\;">Email us</span></a></span>.</span></span></span><br />\n			<span style="top:-3pt\;position:relative\;"><span style="font-size:10.5pt\;"><span style="font-family:arial\,sans-serif\;"><span style="color:black\;">* Signing up is a pledge to try bike commuting this winter. Should we have inclement weather on Feb. 8\, it&#39\;s OK to ride another day. We also recommend you take every precaution to make certain trail and riding conditions are safe and you&rsquo\;re properly prepared.</span></span></span></span><br />\n			&nbsp\;</td>\n		</tr>\n	</tbody>\n</table>\n\n<div style="clear:both\;">&nbsp\;</div>\n
LOCATION:
UID:e.2690.10867
SEQUENCE:3
DTSTAMP:20260420T060342Z
URL:https://www.westminsterchamber.biz/events/details/winter-bike-to-work-day-10867
END:VEVENT

END:VCALENDAR
