BEGIN:VCALENDAR
VERSION:2.0
PRODID:-//ChamberMaster//Event Calendar 2.0//EN
METHOD:PUBLISH
X-PUBLISHED-TTL:P3D
REFRESH-INTERVAL:P3D
CALSCALE:GREGORIAN
BEGIN:VEVENT
DTSTART:20181114T200000Z
DTEND:20181115T000000Z
X-MICROSOFT-CDO-ALLDAYEVENT:FALSE
SUMMARY:Women's Summit of The Rockies
DESCRIPTION:Women's Summit of the Rockies\n\n \n\nPresented by West Metro Chamber and Arvada Chamber of Commerce\n\nWomen's Summit of the Rockies was formed to inspire\, encourage and empower HER. Join us for an engaging keynote speaker\, informative breakout sessions and cocktails for charity to wind down the day. All topics and tools will be exciting\, relative and important to female professionals in the workforce today.\n\n\n\nStay tuned for more details!\n\n\n\nSponsorship opportunities are available for this event. Contact Nancy Miller\, Director of Development\, at nancy@westmetrochamber.org or 720-399-5651.
X-ALT-DESC;FMTTYPE=text/html:<p style="margin:0in\;margin-bottom:.0001pt\;background:#EFEFEF\;vertical-align:&#10\;baseline"><strong><span style="margin: 0px\; padding: 0in\; border: 1pt windowtext\; border-image: none\; color: rgb(55\, 55\, 55)\; font-family: inherit\; font-size: 16.5pt\;">Women&#39\;s Summit of the Rockies</span></strong><br style="box-sizing:content-box\;color:inherit\;empty-cells:show\;letter-spacing:&#10\;inherit\;max-height:none\;max-width:none\;min-height:initial\;min-width:initial\;&#10\;opacity:1\;text-align:inherit\;text-indent:inherit\;text-overflow:clip\;text-transform:&#10\;inherit\;white-space:inherit\;word-break:inherit\;word-spacing:inherit\;word-wrap:inherit\;&#10\;border-radius:0px\;float:none\;overflow:visible" />\n<span style="margin: 0px\; color: rgb(55\, 55\, 55)\; font-family: &quot\;Arial&quot\;\,sans-serif\; font-size: 9pt\;">&#8203\;</span><br />\n<span style="margin: 0px\; color: rgb(55\, 55\, 55)\; font-family: &quot\;Verdana&quot\;\,sans-serif\; font-size: 9pt\;">Presented by West Metro Chamber and Arvada Chamber of Commerce</span></p>\n\n<p style="margin: 0px\;"><span style="background: rgb(239\, 239\, 239)\; margin: 0px\; color: rgb(55\, 55\, 55)\; font-family: &quot\;Verdana&quot\;\,sans-serif\; font-size: 9pt\;">Women&#39\;s Summit of the Rockies was formed to&nbsp\;<em style="box-sizing:content-box\;font-variant-numeric:inherit\;font-variant-east-asian:inherit\;&#10\;font-stretch:inherit\;line-height:inherit\;outline:none\;empty-cells:show\;&#10\;max-height:none\;max-width:none\;min-height:initial\;min-width:initial\;opacity:1\;&#10\;text-overflow:clip\;word-break:inherit\;word-wrap:inherit\;border-radius:0px\;&#10\;float:none\;overflow:visible"><span style="margin: 0px\; padding: 0in\; border: 1pt windowtext\; border-image: none\; font-family: &quot\;Verdana&quot\;\,sans-serif\;">inspire</span></em>\,&nbsp\;<u style="box-sizing:border-box\;&#10\;font-variant-numeric:inherit\;font-variant-east-asian:inherit\;font-stretch:inherit\;&#10\;line-height:inherit\;outline:none"><span style="margin: 0px\; padding: 0in\; border: 1pt windowtext\; border-image: none\;">encourage</span></u>&nbsp\;and&nbsp\;<strong style="box-sizing:content-box\;font-variant-numeric:inherit\;font-variant-east-asian:inherit\;&#10\;font-stretch:inherit\;line-height:inherit\;outline:none\;empty-cells:show\;&#10\;max-height:none\;max-width:none\;min-height:initial\;min-width:initial\;opacity:1\;&#10\;text-overflow:clip\;word-break:inherit\;word-wrap:inherit\;border-radius:0px\;&#10\;float:none\;overflow:visible"><span style="margin: 0px\; padding: 0in\; border: 1pt windowtext\; border-image: none\; font-family: &quot\;Verdana&quot\;\,sans-serif\;">empower HER</span></strong>. Join us for an engaging keynote speaker\, informative breakout sessions and cocktails for charity to wind down the day. All topics and tools will be exciting\, relative and important to female professionals in the workforce today.</span><br style="box-sizing:content-box\;&#10\;empty-cells:show\;font-variant-numeric:inherit\;font-variant-east-asian:inherit\;&#10\;font-stretch:inherit\;line-height:inherit\;max-height:none\;max-width:none\;&#10\;min-height:initial\;min-width:initial\;opacity:1\;text-overflow:clip\;word-break:&#10\;inherit\;word-wrap:inherit\;border-radius:0px\;float:none\;overflow:visible" />\n<br style="box-sizing:content-box\;empty-cells:show\;font-variant-numeric:inherit\;&#10\;font-variant-east-asian:inherit\;font-stretch:inherit\;line-height:inherit\;&#10\;max-height:none\;max-width:none\;min-height:initial\;min-width:initial\;opacity:1\;&#10\;text-overflow:clip\;word-break:inherit\;word-wrap:inherit\;border-radius:0px\;&#10\;float:none\;overflow:visible" />\n<span style="background: rgb(239\, 239\, 239)\; margin: 0px\; padding: 0in\; border: 1pt windowtext\; border-image: none\; color: rgb(55\, 55\, 55)\; font-family: &quot\;Verdana&quot\;\,sans-serif\; font-size: 10.5pt\;">Stay tuned for more details!</span><br style="box-sizing:content-box\;empty-cells:show\;font-variant-numeric:inherit\;&#10\;font-variant-east-asian:inherit\;font-stretch:inherit\;line-height:inherit\;&#10\;max-height:none\;max-width:none\;min-height:initial\;min-width:initial\;opacity:1\;&#10\;text-overflow:clip\;word-break:inherit\;word-wrap:inherit\;border-radius:0px\;&#10\;float:none\;overflow:visible" />\n<br style="box-sizing:content-box\;empty-cells:show\;font-variant-numeric:inherit\;&#10\;font-variant-east-asian:inherit\;font-stretch:inherit\;line-height:inherit\;&#10\;max-height:none\;max-width:none\;min-height:initial\;min-width:initial\;opacity:1\;&#10\;text-overflow:clip\;word-break:inherit\;word-wrap:inherit\;border-radius:0px\;&#10\;float:none\;overflow:visible" />\n<strong style="box-sizing:content-box\;font-style:inherit\;font-variant:&#10\;inherit\;font-stretch:inherit\;font-size:inherit\;line-height:inherit\;outline:none\;&#10\;color:inherit\;empty-cells:show\;letter-spacing:inherit\;max-height:none\;&#10\;max-width:none\;min-height:initial\;min-width:initial\;opacity:1\;text-align:inherit\;&#10\;text-indent:inherit\;text-overflow:clip\;text-transform:inherit\;white-space:inherit\;&#10\;word-break:inherit\;word-spacing:inherit\;word-wrap:inherit\;border-radius:0px\;&#10\;float:none\;overflow:visible"><span style="background: rgb(239\, 239\, 239)\; margin: 0px\; padding: 0in\; border: 1pt windowtext\; border-image: none\; color: navy\; font-family: inherit\; font-size: 9pt\;">Sponsorship opportunities are available</span></strong><span style="background: rgb(239\, 239\, 239)\; margin: 0px\; padding: 0in\; border: 1pt windowtext\; border-image: none\; color: navy\; font-family: inherit\; font-size: 9pt\;">&nbsp\;for this event. Contact Nancy Miller\, Director of Development\, at <a><font color="#000080" face="Calibri">nancy@westmetrochamber.org</font></a> or 720-399-5651.</span><span style="margin: 0px\; font-size: 12pt\;"><font color="#000000" face="Calibri">&nbsp\;</font></span></p>\n
LOCATION:Hilton Garden Inn Arvada 5455 Olde Wadsworth Blvd Arvada\, CO 80002
UID:e.2690.10170
SEQUENCE:3
DTSTAMP:20260420T111740Z
URL:https://www.westminsterchamber.biz/events/details/women-s-summit-of-the-rockies-10170
END:VEVENT

END:VCALENDAR
