BEGIN:VCALENDAR
VERSION:2.0
PRODID:-//ChamberMaster//Event Calendar 2.0//EN
METHOD:PUBLISH
X-PUBLISHED-TTL:P3D
REFRESH-INTERVAL:P3D
CALSCALE:GREGORIAN
BEGIN:VEVENT
DTSTART:20190727T160000Z
DTEND:20190831T170000Z
X-MICROSOFT-CDO-ALLDAYEVENT:FALSE
SUMMARY:Yoga Pizza Beer
DESCRIPTION:Get your brunch on with Palangi Fit at Kokopelli Beer Co! Enjoy an hour of yoga\, a slice of pizza\, and a Kokopelli home brew! Join us the last Saturday of each month!
X-ALT-DESC;FMTTYPE=text/html:Get your brunch on with Palangi Fit at Kokopelli Beer Co! Enjoy an hour of yoga\, a slice of pizza\, and a Kokopelli home brew! Join us the last Saturday of each month!
LOCATION:Kokopelli Beer Company 8931 North Harlan Street Westminster\, Colorado 80031 United States
UID:e.2690.11607
SEQUENCE:3
DTSTAMP:20260420T010857Z
URL:https://www.westminsterchamber.biz/events/details/yoga-pizza-beer-07-27-2019-11607
END:VEVENT

END:VCALENDAR
